BEGIN:VCALENDAR
VERSION:2.0
PRODID:-//FHSU Christian Challenge - ECPv6.15.20//NONSGML v1.0//EN
CALSCALE:GREGORIAN
METHOD:PUBLISH
X-ORIGINAL-URL:https://fhsuchristianchallenge.org
X-WR-CALDESC:Events for FHSU Christian Challenge
REFRESH-INTERVAL;VALUE=DURATION:PT1H
X-Robots-Tag:noindex
X-PUBLISHED-TTL:PT1H
BEGIN:VTIMEZONE
TZID:America/Chicago
BEGIN:DAYLIGHT
TZOFFSETFROM:-0600
TZOFFSETTO:-0500
TZNAME:CDT
DTSTART:20250309T080000
END:DAYLIGHT
BEGIN:STANDARD
TZOFFSETFROM:-0500
TZOFFSETTO:-0600
TZNAME:CST
DTSTART:20251102T070000
END:STANDARD
BEGIN:DAYLIGHT
TZOFFSETFROM:-0600
TZOFFSETTO:-0500
TZNAME:CDT
DTSTART:20260308T080000
END:DAYLIGHT
BEGIN:STANDARD
TZOFFSETFROM:-0500
TZOFFSETTO:-0600
TZNAME:CST
DTSTART:20261101T070000
END:STANDARD
BEGIN:DAYLIGHT
TZOFFSETFROM:-0600
TZOFFSETTO:-0500
TZNAME:CDT
DTSTART:20270314T080000
END:DAYLIGHT
BEGIN:STANDARD
TZOFFSETFROM:-0500
TZOFFSETTO:-0600
TZNAME:CST
DTSTART:20271107T070000
END:STANDARD
END:VTIMEZONE
BEGIN:VEVENT
DTSTART;TZID=America/Chicago:20260208T163000
DTEND;TZID=America/Chicago:20260208T210000
DTSTAMP:20260425T121224
CREATED:20260126T190807Z
LAST-MODIFIED:20260128T172040Z
UID:10862-1770568200-1770584400@fhsuchristianchallenge.org
SUMMARY:Super Bowl Party
DESCRIPTION:Join us for a Super Bowl watch party at Crosspoint Church on February 8th at 4:30 PM. Bring your favorite snack to share! Here is a link to sign up to bring a snack: https://docs.google.com/spreadsheets/d/1dBn_H2aBKOFg58D1TnDZ2_AyQicY0HeO/edit?usp=sharing&ouid=116635782913422181207&rtpof=true&sd=true \n  \n 
URL:https://fhsuchristianchallenge.org/event/super-bowl-party/
LOCATION:Crosspoint Church\, 1300 Harvest Rd\, Hays\, KS\, 67601\, United States
END:VEVENT
BEGIN:VEVENT
DTSTART;TZID=America/Chicago:20260214T090000
DTEND;TZID=America/Chicago:20260214T123000
DTSTAMP:20260425T121224
CREATED:20260109T200500Z
LAST-MODIFIED:20260109T200500Z
UID:10783-1771059600-1771072200@fhsuchristianchallenge.org
SUMMARY:Walk Through the Bible
DESCRIPTION:Join us as we experience the Old Testament in a live experience like never before. It will be on Saturday\, February 14\, 2026\, at CrossPoint Hays. Doors will open at 8:30am with donuts and coffee available. The event will begin promptly at 9:00 a.m. All attendees need to be registered and pay the $25 registration cost (this price covers the cost of the workbook). The event will conclude around 12:30pm. Pizza lunch following. While this event is open to all ages\, we encourage parents to use their discretion; younger guests are welcome if they can remain engaged throughout the morning’s session (3rd grade minimum age). However\, there will be no child care provided\, and each person in attendance needs to register and pay the $25.\nHere is the Google form to register:\nhttps://forms.gle/vNkEdL6TuRHq1WYj7
URL:https://fhsuchristianchallenge.org/event/walk-through-the-bible/
LOCATION:Crosspoint Church\, 1300 Harvest Rd\, Hays\, KS\, 67601\, United States
END:VEVENT
BEGIN:VEVENT
DTSTART;TZID=America/Chicago:20260227T173000
DTEND;TZID=America/Chicago:20260227T183000
DTSTAMP:20260425T121224
CREATED:20260224T202224Z
LAST-MODIFIED:20260226T211220Z
UID:10912-1772213400-1772217000@fhsuchristianchallenge.org
SUMMARY:Impromptu Worship Night
DESCRIPTION:Join us in kicking off 24 hours of prayer and fasting with a time of worship! Friday\, February 27th\, at 5:30 PM at Carin’s house (Backyard) 1723 Golden Belt Dr. Please be mindful of neighbors’ driveways when parking\, and please DO NOT block them!!!
URL:https://fhsuchristianchallenge.org/event/evangelism-training-and-vision-casting/
LOCATION:Carin’s House\, 1723 Golden Belt Dr\, Hays\, KS\, 67601\, United States
END:VEVENT
BEGIN:VEVENT
DTSTART;TZID=America/Chicago:20260227T180000
DTEND;TZID=America/Chicago:20260228T180000
DTSTAMP:20260425T121224
CREATED:20260126T191109Z
LAST-MODIFIED:20260224T202420Z
UID:10864-1772215200-1772301600@fhsuchristianchallenge.org
SUMMARY:24 hours of prayer and fasting
DESCRIPTION:Come participate in 24 hours of prayer and fasting\, an intentional time set aside to intercede for our community\, country\, and world. Sign up for a 30-minute prayer slot on the info page! Be sure to check the “Challenge Message Board” GroupMe for events happening during those 24 hours!
URL:https://fhsuchristianchallenge.org/event/24-hours-of-prayer-and-fasting-3/
LOCATION:Carin’s House\, 1723 Golden Belt Dr\, Hays\, KS\, 67601\, United States
END:VEVENT
END:VCALENDAR