BEGIN:VCALENDAR
VERSION:2.0
PRODID:-//FHSU Christian Challenge - ECPv6.15.20//NONSGML v1.0//EN
CALSCALE:GREGORIAN
METHOD:PUBLISH
X-WR-CALNAME:FHSU Christian Challenge
X-ORIGINAL-URL:https://fhsuchristianchallenge.org
X-WR-CALDESC:Events for FHSU Christian Challenge
REFRESH-INTERVAL;VALUE=DURATION:PT1H
X-Robots-Tag:noindex
X-PUBLISHED-TTL:PT1H
BEGIN:VTIMEZONE
TZID:America/Chicago
BEGIN:DAYLIGHT
TZOFFSETFROM:-0600
TZOFFSETTO:-0500
TZNAME:CDT
DTSTART:20250309T080000
END:DAYLIGHT
BEGIN:STANDARD
TZOFFSETFROM:-0500
TZOFFSETTO:-0600
TZNAME:CST
DTSTART:20251102T070000
END:STANDARD
BEGIN:DAYLIGHT
TZOFFSETFROM:-0600
TZOFFSETTO:-0500
TZNAME:CDT
DTSTART:20260308T080000
END:DAYLIGHT
BEGIN:STANDARD
TZOFFSETFROM:-0500
TZOFFSETTO:-0600
TZNAME:CST
DTSTART:20261101T070000
END:STANDARD
BEGIN:DAYLIGHT
TZOFFSETFROM:-0600
TZOFFSETTO:-0500
TZNAME:CDT
DTSTART:20270314T080000
END:DAYLIGHT
BEGIN:STANDARD
TZOFFSETFROM:-0500
TZOFFSETTO:-0600
TZNAME:CST
DTSTART:20271107T070000
END:STANDARD
END:VTIMEZONE
BEGIN:VEVENT
DTSTART;TZID=America/Chicago:20260427T190000
DTEND;TZID=America/Chicago:20260427T210000
DTSTAMP:20260425T192049
CREATED:20260421T155618Z
LAST-MODIFIED:20260421T155618Z
UID:11041-1777316400-1777323600@fhsuchristianchallenge.org
SUMMARY:All Campus Worship Night
DESCRIPTION:Join the Christian groups of Fort Hays State University for a worship night on Campus with the Presence Worship Band. April 27th from 7PM-9PM\, located on the Quad or in Sheridan Hall (weather dependent).
URL:https://fhsuchristianchallenge.org/event/all-campus-worship-night/
LOCATION:The Quad\, 700 College Drive\, Hays\, KS\, 67601\, United States
END:VEVENT
BEGIN:VEVENT
DTSTART;TZID=America/Chicago:20260512T180000
DTEND;TZID=America/Chicago:20260512T210000
DTSTAMP:20260425T192049
CREATED:20260423T182158Z
LAST-MODIFIED:20260423T182158Z
UID:11046-1778608800-1778619600@fhsuchristianchallenge.org
SUMMARY:End of the Year Cookout
DESCRIPTION:Join us for our end of the year cookout and potluck at Kiwanis Park\, next to Crosspoint\, the Tuesday of finals week! Challenge will provide the hotdogs and drinks. Students please bring a side or dessert!
URL:https://fhsuchristianchallenge.org/event/end-of-the-year-cookout/
LOCATION:Kiwanis Park\, 1314 Harvest Rd\, Hays\, KS\, 67601\, United States
END:VEVENT
END:VCALENDAR