BEGIN:VCALENDAR
VERSION:2.0
PRODID:-//FHSU Christian Challenge - ECPv6.15.20//NONSGML v1.0//EN
CALSCALE:GREGORIAN
METHOD:PUBLISH
X-ORIGINAL-URL:https://fhsuchristianchallenge.org
X-WR-CALDESC:Events for FHSU Christian Challenge
REFRESH-INTERVAL;VALUE=DURATION:PT1H
X-Robots-Tag:noindex
X-PUBLISHED-TTL:PT1H
BEGIN:VTIMEZONE
TZID:America/Chicago
BEGIN:DAYLIGHT
TZOFFSETFROM:-0600
TZOFFSETTO:-0500
TZNAME:CDT
DTSTART:20240310T080000
END:DAYLIGHT
BEGIN:STANDARD
TZOFFSETFROM:-0500
TZOFFSETTO:-0600
TZNAME:CST
DTSTART:20241103T070000
END:STANDARD
BEGIN:DAYLIGHT
TZOFFSETFROM:-0600
TZOFFSETTO:-0500
TZNAME:CDT
DTSTART:20250309T080000
END:DAYLIGHT
BEGIN:STANDARD
TZOFFSETFROM:-0500
TZOFFSETTO:-0600
TZNAME:CST
DTSTART:20251102T070000
END:STANDARD
BEGIN:DAYLIGHT
TZOFFSETFROM:-0600
TZOFFSETTO:-0500
TZNAME:CDT
DTSTART:20260308T080000
END:DAYLIGHT
BEGIN:STANDARD
TZOFFSETFROM:-0500
TZOFFSETTO:-0600
TZNAME:CST
DTSTART:20261101T070000
END:STANDARD
END:VTIMEZONE
BEGIN:VEVENT
DTSTART;TZID=America/Chicago:20251202T200000
DTEND;TZID=America/Chicago:20251202T220000
DTSTAMP:20260421T082034
CREATED:20251015T151846Z
LAST-MODIFIED:20251015T151846Z
UID:10377-1764705600-1764712800@fhsuchristianchallenge.org
SUMMARY:Christian Challenge
DESCRIPTION:Join us for our large group meeting at CrossPoint church. Our goals for Tuesday nights are that Truth is Spoken\, Real Worship Happens\, and People feel Loved & Connected.  We meet at 8 for worship\, then snacks & fellowship time will follow!
URL:https://fhsuchristianchallenge.org/event/christian-challenge-14/
LOCATION:Crosspoint Church\, 1300 Harvest Rd\, Hays\, KS\, 67601\, United States
END:VEVENT
BEGIN:VEVENT
DTSTART;TZID=America/Chicago:20251120T180000
DTEND;TZID=America/Chicago:20251120T200000
DTSTAMP:20260421T082034
CREATED:20251030T183651Z
LAST-MODIFIED:20251107T154215Z
UID:10463-1763661600-1763668800@fhsuchristianchallenge.org
SUMMARY:Thanksgiving Dinner
DESCRIPTION:Join us for a Thanksgiving dinner on the Thursday before Thanksgiving break November 20th at 6 PM. Please bring a side or a dessert so that we have plenty of food to share!
URL:https://fhsuchristianchallenge.org/event/thanksgiving-dinner/
LOCATION:Cornerstone Church\, 1605 E 29th St\, Hays\, KS\, 67601\, United States
END:VEVENT
BEGIN:VEVENT
DTSTART;TZID=America/Chicago:20251118T200000
DTEND;TZID=America/Chicago:20251118T220000
DTSTAMP:20260421T082034
CREATED:20251015T151603Z
LAST-MODIFIED:20251015T151603Z
UID:10375-1763496000-1763503200@fhsuchristianchallenge.org
SUMMARY:Christian Challenge
DESCRIPTION:Join us for our large group meeting at CrossPoint church. Our goals for Tuesday nights are that Truth is Spoken\, Real Worship Happens\, and People feel Loved & Connected.  We meet at 8 for worship\, then snacks & fellowship time will follow!
URL:https://fhsuchristianchallenge.org/event/christian-challenge-13/
LOCATION:Crosspoint Church\, 1300 Harvest Rd\, Hays\, KS\, 67601\, United States
END:VEVENT
BEGIN:VEVENT
DTSTART;VALUE=DATE:20251118
DTEND;VALUE=DATE:20251119
DTSTAMP:20260421T082034
CREATED:20251027T210253Z
LAST-MODIFIED:20251027T210253Z
UID:10447-1763424000-1763510399@fhsuchristianchallenge.org
SUMMARY:BLT Application Deadline
DESCRIPTION:BLT Applications are due Tuesday\, November 18th! Make sure you have submitted your application AND signed up for an interview slot!
URL:https://fhsuchristianchallenge.org/event/blt-application-deadline/
END:VEVENT
BEGIN:VEVENT
DTSTART;TZID=America/Chicago:20251117T203000
DTEND;TZID=America/Chicago:20251117T220000
DTSTAMP:20260421T082034
CREATED:20251103T194814Z
LAST-MODIFIED:20251103T194814Z
UID:10489-1763411400-1763416800@fhsuchristianchallenge.org
SUMMARY:Christmas Decorating Party
DESCRIPTION:Join us for a casual Christmas decorating party with holiday snacks at Carin’s house! 8:30 PM or after Starting Point.
URL:https://fhsuchristianchallenge.org/event/christmas-decorating-party/
LOCATION:Carin’s House\, 1723 Golden Belt Dr\, Hays\, KS\, 67601\, United States
END:VEVENT
BEGIN:VEVENT
DTSTART;TZID=America/Chicago:20251111T200000
DTEND;TZID=America/Chicago:20251111T220000
DTSTAMP:20260421T082034
CREATED:20251015T151439Z
LAST-MODIFIED:20251015T151439Z
UID:10373-1762891200-1762898400@fhsuchristianchallenge.org
SUMMARY:Christian Challenge
DESCRIPTION:Join us for our large group meeting at CrossPoint church. Our goals for Tuesday nights are that Truth is Spoken\, Real Worship Happens\, and People feel Loved & Connected.  We meet at 8 for worship\, then snacks & fellowship time will follow!
URL:https://fhsuchristianchallenge.org/event/christian-challenge-12/
LOCATION:Crosspoint Church\, 1300 Harvest Rd\, Hays\, KS\, 67601\, United States
END:VEVENT
BEGIN:VEVENT
DTSTART;TZID=America/Chicago:20251104T200000
DTEND;TZID=America/Chicago:20251104T220000
DTSTAMP:20260421T082034
CREATED:20251015T151239Z
LAST-MODIFIED:20251015T151239Z
UID:10370-1762286400-1762293600@fhsuchristianchallenge.org
SUMMARY:Christian Challenge
DESCRIPTION:Join us for our large group meeting at CrossPoint church. Our goals for Tuesday nights are that Truth is Spoken\, Real Worship Happens\, and People feel Loved & Connected.  We meet at 8 for worship\, then snacks & fellowship time will follow!
URL:https://fhsuchristianchallenge.org/event/christian-challenge-11/
LOCATION:Crosspoint Church\, 1300 Harvest Rd\, Hays\, KS\, 67601\, United States
END:VEVENT
BEGIN:VEVENT
DTSTART;VALUE=DATE:20251101
DTEND;VALUE=DATE:20251102
DTSTAMP:20260421T082034
CREATED:20251015T152300Z
LAST-MODIFIED:20251015T152300Z
UID:10379-1761955200-1762041599@fhsuchristianchallenge.org
SUMMARY:OneLink Applications Due
DESCRIPTION:All OneLink applications are due by November 1st!
URL:https://fhsuchristianchallenge.org/event/onelink-applications-due-2/
END:VEVENT
BEGIN:VEVENT
DTSTART;TZID=America/Chicago:20251031T170000
DTEND;TZID=America/Chicago:20251031T210000
DTSTAMP:20260421T082034
CREATED:20251027T184245Z
LAST-MODIFIED:20251027T205546Z
UID:10431-1761930000-1761944400@fhsuchristianchallenge.org
SUMMARY:Halloween Fire Pit
DESCRIPTION:Join us at Carin’s house for a fire pit on Halloween to fellowship and hand out candy to trick-or-treaters\, make S’mores\, and fellowship. Costumes are optional. We will light the fire at 5:00 pm to be ready for trick-or-treaters! If you are interested in participating\, you can join our group me for the event! https://groupme.com/join_group/111205156/fF6dtYOh
URL:https://fhsuchristianchallenge.org/event/halloween-fire-pit/
LOCATION:Carin’s House\, 1723 Golden Belt Dr\, Hays\, KS\, 67601\, United States
END:VEVENT
BEGIN:VEVENT
DTSTART;TZID=America/Chicago:20251028T200000
DTEND;TZID=America/Chicago:20251028T213000
DTSTAMP:20260421T082034
CREATED:20250819T030656Z
LAST-MODIFIED:20250819T030656Z
UID:9693-1761681600-1761687000@fhsuchristianchallenge.org
SUMMARY:Christian Challenge
DESCRIPTION:Join us for our large group meeting at CrossPoint church. Our goals for Tuesday nights are that Truth is Spoken\, Real Worship Happens\, and People feel Loved & Connected.  We meet at 8 for worship\, then snacks & fellowship time will follow!
URL:https://fhsuchristianchallenge.org/event/christian-challenge-10/
LOCATION:Crosspoint Church\, 1300 Harvest Rd\, Hays\, KS\, 67601\, United States
END:VEVENT
BEGIN:VEVENT
DTSTART;TZID=America/Chicago:20251022T190000
DTEND;TZID=America/Chicago:20251022T203000
DTSTAMP:20260421T082034
CREATED:20251013T180108Z
LAST-MODIFIED:20251013T180108Z
UID:10351-1761159600-1761165000@fhsuchristianchallenge.org
SUMMARY:Summer Missions Opportunities Information Meeting
DESCRIPTION:Join us and learn more about our summer missions opportunities and hear from students about their experiences with OneLink International and Project Impact in Denver\, Colorado. We will meet at 7 pm in Carin’s Basement!
URL:https://fhsuchristianchallenge.org/event/summer-missions-opportunities-information-meeting/
LOCATION:Carin’s House\, 1723 Golden Belt Dr\, Hays\, KS\, 67601\, United States
END:VEVENT
BEGIN:VEVENT
DTSTART;TZID=America/Chicago:20251021T200000
DTEND;TZID=America/Chicago:20251021T213000
DTSTAMP:20260421T082034
CREATED:20250819T030616Z
LAST-MODIFIED:20250819T030616Z
UID:9691-1761076800-1761082200@fhsuchristianchallenge.org
SUMMARY:Christian Challenge
DESCRIPTION:Join us for our large group meeting at CrossPoint church. Our goals for Tuesday nights are that Truth is Spoken\, Real Worship Happens\, and People feel Loved & Connected.  We meet at 8 for worship\, then snacks & fellowship time will follow!
URL:https://fhsuchristianchallenge.org/event/christian-challenge-9/
LOCATION:Crosspoint Church\, 1300 Harvest Rd\, Hays\, KS\, 67601\, United States
END:VEVENT
BEGIN:VEVENT
DTSTART;TZID=America/Chicago:20251018T130000
DTEND;TZID=America/Chicago:20251018T150000
DTSTAMP:20260421T082034
CREATED:20251003T154533Z
LAST-MODIFIED:20251003T154533Z
UID:10267-1760792400-1760799600@fhsuchristianchallenge.org
SUMMARY:Women's Pumpkin Patch Trip
DESCRIPTION:Women of Challenge! Join us for a trip to Granny Mae’s Pumpkin Patch on Saturday\, October 18th!\nFor more information\, please contact Kailey @ (316) 371-1162
URL:https://fhsuchristianchallenge.org/event/womens-pumpkin-patch-trip/
LOCATION:Granny Mae’s\, 3817 198th st.\, Dorrance\, KS\, 67634\, United States
END:VEVENT
BEGIN:VEVENT
DTSTART;TZID=America/Chicago:20251017T180000
DTEND;TZID=America/Chicago:20251018T170000
DTSTAMP:20260421T082034
CREATED:20251003T150637Z
LAST-MODIFIED:20251006T192252Z
UID:10260-1760724000-1760806800@fhsuchristianchallenge.org
SUMMARY:Men's Camping Trip
DESCRIPTION:Men of Challenge! Join us for a camping trip at Wilson Lake\, October 17th @6pm through the 18th @5pm. Enjoy good food\, fellowship\, and outdoor activities with the men of our community!\nFood will be provided\, but please bring your own camping gear!\nFor more information\, please contact Levi Knoll @ (785)345-3301
URL:https://fhsuchristianchallenge.org/event/mens-camping-trip/
LOCATION:Wilson Lake
END:VEVENT
BEGIN:VEVENT
DTSTART;TZID=America/Chicago:20251015T193000
DTEND;TZID=America/Chicago:20251015T213000
DTSTAMP:20260421T082034
CREATED:20250923T185045Z
LAST-MODIFIED:20250923T185045Z
UID:10206-1760556600-1760563800@fhsuchristianchallenge.org
SUMMARY:Pancake Palooza
DESCRIPTION:Come join us for a midweek study break from midterms and enjoy some pancakes! McMindes  2R 7:30-9:30pm on Wednesday\, October 15th!
URL:https://fhsuchristianchallenge.org/event/pancake-palooza/
LOCATION:McMindes 2R\, 410 Agnew Lane\, Hays\, KS\, 67601\, United States
END:VEVENT
BEGIN:VEVENT
DTSTART;TZID=America/Chicago:20251014T200000
DTEND;TZID=America/Chicago:20251014T213000
DTSTAMP:20260421T082034
CREATED:20250819T030537Z
LAST-MODIFIED:20250819T030537Z
UID:9689-1760472000-1760477400@fhsuchristianchallenge.org
SUMMARY:Christian Challenge
DESCRIPTION:Join us for our large group meeting at CrossPoint church. Our goals for Tuesday nights are that Truth is Spoken\, Real Worship Happens\, and People feel Loved & Connected.  We meet at 8 for worship\, then snacks & fellowship time will follow!
URL:https://fhsuchristianchallenge.org/event/christian-challenge-8/
LOCATION:Crosspoint Church\, 1300 Harvest Rd\, Hays\, KS\, 67601\, United States
END:VEVENT
BEGIN:VEVENT
DTSTART;TZID=America/Chicago:20251007T200000
DTEND;TZID=America/Chicago:20251007T213000
DTSTAMP:20260421T082034
CREATED:20250819T030456Z
LAST-MODIFIED:20250819T030456Z
UID:9687-1759867200-1759872600@fhsuchristianchallenge.org
SUMMARY:Christian Challenge
DESCRIPTION:Join us for our large group meeting at CrossPoint church. Our goals for Tuesday nights are that Truth is Spoken\, Real Worship Happens\, and People feel Loved & Connected.  We meet at 8 for worship\, then snacks & fellowship time will follow!
URL:https://fhsuchristianchallenge.org/event/christian-challenge-2/
LOCATION:Crosspoint Church\, 1300 Harvest Rd\, Hays\, KS\, 67601\, United States
END:VEVENT
BEGIN:VEVENT
DTSTART;VALUE=DATE:20251003
DTEND;VALUE=DATE:20251006
DTSTAMP:20260421T082034
CREATED:20250804T225330Z
LAST-MODIFIED:20250804T225330Z
UID:9540-1759449600-1759708799@fhsuchristianchallenge.org
SUMMARY:Fall Conference
DESCRIPTION:Come along for a fun weekend! We’ll drive together to Webster Conference Center in Salina\, KS. Registration & payment are required to attend. More details will be announced at Christian Challenge on Tuesdays at 8. \n  \nThe mission of the Fall Conference is to love college students well by creating a place that the love of Jesus is shown. We want a welcoming and fun atmosphere where the mission of Jesus can be shared\, prayed about\, and eventually moved into the world that we live in.
URL:https://fhsuchristianchallenge.org/event/fall-conference-2/
LOCATION:Webster Conference Center\, 2601 N Ohio St\, Salina\, 67401\, United States
END:VEVENT
BEGIN:VEVENT
DTSTART;TZID=America/Chicago:20250930T200000
DTEND;TZID=America/Chicago:20250930T213000
DTSTAMP:20260421T082034
CREATED:20250819T030024Z
LAST-MODIFIED:20250819T030024Z
UID:9685-1759262400-1759267800@fhsuchristianchallenge.org
SUMMARY:Christian Challenge
DESCRIPTION:Join our large group meeting every Tuesday night! You can expect genuine worship\, truth from God’s word\, and the opportunity to connect with others.
URL:https://fhsuchristianchallenge.org/event/christian-challenge-7/
LOCATION:Crosspoint Church\, 1300 Harvest Rd\, Hays\, KS\, 67601\, United States
END:VEVENT
BEGIN:VEVENT
DTSTART;TZID=America/Chicago:20250929T070000
DTEND;TZID=America/Chicago:20250929T083000
DTSTAMP:20260421T082034
CREATED:20250919T153257Z
LAST-MODIFIED:20250922T192058Z
UID:10176-1759129200-1759134600@fhsuchristianchallenge.org
SUMMARY:Men's Breakfast
DESCRIPTION:A time of good food and fellowship\, with vision and prayer for developing community and discipleship among the men of Challenge. Join us from 7:00 to 8:30 a.m. at 409 W. 20th St.\, Hays\, KS. \nPlease RSVP at this link: Men’s Breakfast RSVP\, so we know how much food to prepare.
URL:https://fhsuchristianchallenge.org/event/mens-breakfast/
LOCATION:The Brandenburg’s Home\, 409 W. 20th St.\, Hays\, KS\, 67601\, United States
END:VEVENT
BEGIN:VEVENT
DTSTART;TZID=America/Chicago:20250926T200000
DTEND;TZID=America/Chicago:20250926T230000
DTSTAMP:20260421T082034
CREATED:20250827T154610Z
LAST-MODIFIED:20250915T181719Z
UID:9970-1758916800-1758927600@fhsuchristianchallenge.org
SUMMARY:Barn Dance
DESCRIPTION:Come join us at the Buckeye School North of Hays and dance the night away at the Barn Dance! There is limited parking so PLEASE carpool as you are able!
URL:https://fhsuchristianchallenge.org/event/barn-dance-3/
LOCATION:Buckeye School\, 1657 Buckeye Rd\, Hays\, KS\, 67601\, United States
END:VEVENT
BEGIN:VEVENT
DTSTART;TZID=America/Chicago:20250923T200000
DTEND;TZID=America/Chicago:20250923T213000
DTSTAMP:20260421T082034
CREATED:20250819T025852Z
LAST-MODIFIED:20250819T025852Z
UID:9683-1758657600-1758663000@fhsuchristianchallenge.org
SUMMARY:Christian Challenge
DESCRIPTION:Join our large group meeting every Tuesday night! You can expect genuine worship\, truth from God’s word\, and the opportunity to connect with others.
URL:https://fhsuchristianchallenge.org/event/christian-challenge-6/
LOCATION:Crosspoint Church\, 1300 Harvest Rd\, Hays\, KS\, 67601\, United States
END:VEVENT
BEGIN:VEVENT
DTSTART;TZID=America/Chicago:20250919T200000
DTEND;TZID=America/Chicago:20250919T220000
DTSTAMP:20260421T082034
CREATED:20250827T153838Z
LAST-MODIFIED:20250827T153838Z
UID:9967-1758312000-1758319200@fhsuchristianchallenge.org
SUMMARY:Fire Pits
DESCRIPTION:The men of Challenge are invited to the Brandenburg’s home\, 409 W 20th St\, Hays\, KS\, for a time of fellowship around the fire (with s’mores!) \nThe women of Challenge are invited to Carin Cochran’s home\, 1723 Golden Belt Dr\, Hays\, KS\, for a time of fellowship around the fire (with s’mores!)
URL:https://fhsuchristianchallenge.org/event/fire-pits/
END:VEVENT
BEGIN:VEVENT
DTSTART;TZID=America/Chicago:20250918T190000
DTEND;TZID=America/Chicago:20250918T210000
DTSTAMP:20260421T082034
CREATED:20250827T153305Z
LAST-MODIFIED:20250827T153305Z
UID:9965-1758222000-1758229200@fhsuchristianchallenge.org
SUMMARY:Dodgeball
DESCRIPTION:Come join us in Cunningham for Dodgeball!
URL:https://fhsuchristianchallenge.org/event/dodgeball/
LOCATION:Cunningham Gym
END:VEVENT
BEGIN:VEVENT
DTSTART;TZID=America/Chicago:20250916T200000
DTEND;TZID=America/Chicago:20250916T213000
DTSTAMP:20260421T082034
CREATED:20250819T025810Z
LAST-MODIFIED:20250819T025810Z
UID:9681-1758052800-1758058200@fhsuchristianchallenge.org
SUMMARY:Christian Challenge
DESCRIPTION:Join our large group meeting every Tuesday night! You can expect genuine worship\, truth from God’s word\, and the opportunity to connect with others.
URL:https://fhsuchristianchallenge.org/event/christian-challenge-5/
LOCATION:Crosspoint Church\, 1300 Harvest Rd\, Hays\, KS\, 67601\, United States
END:VEVENT
BEGIN:VEVENT
DTSTART;TZID=America/Chicago:20250912T183000
DTEND;TZID=America/Chicago:20250912T200000
DTSTAMP:20260421T082034
CREATED:20250827T153125Z
LAST-MODIFIED:20250827T153125Z
UID:9963-1757701800-1757707200@fhsuchristianchallenge.org
SUMMARY:Trivia Night
DESCRIPTION:Join us in Cody Commons for some fun trivia and games!
URL:https://fhsuchristianchallenge.org/event/trivia-night/
LOCATION:Cody Commons\, 700 College Drive\, Hays\, KS\, 67601\, United States
END:VEVENT
BEGIN:VEVENT
DTSTART;TZID=America/Chicago:20250910T190000
DTEND;TZID=America/Chicago:20250910T210000
DTSTAMP:20260421T082034
CREATED:20250826T185938Z
LAST-MODIFIED:20250826T185938Z
UID:9900-1757530800-1757538000@fhsuchristianchallenge.org
SUMMARY:3-on-3 Basketball
DESCRIPTION:Join us in the Cunningham gym for 3-on-3 basketball
URL:https://fhsuchristianchallenge.org/event/3-on-3-basketball/
LOCATION:Cunningham Gym
END:VEVENT
BEGIN:VEVENT
DTSTART;TZID=America/Chicago:20250909T200000
DTEND;TZID=America/Chicago:20250909T213000
DTSTAMP:20260421T082034
CREATED:20250819T025257Z
LAST-MODIFIED:20250819T025257Z
UID:9678-1757448000-1757453400@fhsuchristianchallenge.org
SUMMARY:Christian Challenge
DESCRIPTION:Join us on Tuesday nights! You can expect genuine worship\, truth from God’s word\, and the opportunity to meet great people!
URL:https://fhsuchristianchallenge.org/event/christian-challenge-4/
LOCATION:Crosspoint Church\, 1300 Harvest Rd\, Hays\, KS\, 67601\, United States
END:VEVENT
BEGIN:VEVENT
DTSTART;TZID=America/Chicago:20250905T190000
DTEND;TZID=America/Chicago:20250905T200000
DTSTAMP:20260421T082034
CREATED:20250826T185705Z
LAST-MODIFIED:20250826T185705Z
UID:9897-1757098800-1757102400@fhsuchristianchallenge.org
SUMMARY:Ultimate Frisbee
DESCRIPTION:Join us in the Quad for the chance to play ultimate frisbee and connect with us!
URL:https://fhsuchristianchallenge.org/event/ultimate-frisbee/
LOCATION:The Quad\, 700 College Drive\, Hays\, KS\, 67601\, United States
END:VEVENT
BEGIN:VEVENT
DTSTART;TZID=America/Chicago:20250904T200000
DTEND;TZID=America/Chicago:20250904T220000
DTSTAMP:20260421T082034
CREATED:20250826T185318Z
LAST-MODIFIED:20250826T185318Z
UID:9894-1757016000-1757023200@fhsuchristianchallenge.org
SUMMARY:Board Game Night
DESCRIPTION:Join us in the Victor E. ping pong room for the chance to play board games and connect with us!
URL:https://fhsuchristianchallenge.org/event/board-game-night/
LOCATION:Victor E Village Ping Pong Room
END:VEVENT
END:VCALENDAR