BEGIN:VCALENDAR
VERSION:2.0
PRODID:-//FHSU Christian Challenge - ECPv6.15.20//NONSGML v1.0//EN
CALSCALE:GREGORIAN
METHOD:PUBLISH
X-WR-CALNAME:FHSU Christian Challenge
X-ORIGINAL-URL:https://fhsuchristianchallenge.org
X-WR-CALDESC:Events for FHSU Christian Challenge
REFRESH-INTERVAL;VALUE=DURATION:PT1H
X-Robots-Tag:noindex
X-PUBLISHED-TTL:PT1H
BEGIN:VTIMEZONE
TZID:America/Chicago
BEGIN:DAYLIGHT
TZOFFSETFROM:-0600
TZOFFSETTO:-0500
TZNAME:CDT
DTSTART:20250309T080000
END:DAYLIGHT
BEGIN:STANDARD
TZOFFSETFROM:-0500
TZOFFSETTO:-0600
TZNAME:CST
DTSTART:20251102T070000
END:STANDARD
BEGIN:DAYLIGHT
TZOFFSETFROM:-0600
TZOFFSETTO:-0500
TZNAME:CDT
DTSTART:20260308T080000
END:DAYLIGHT
BEGIN:STANDARD
TZOFFSETFROM:-0500
TZOFFSETTO:-0600
TZNAME:CST
DTSTART:20261101T070000
END:STANDARD
BEGIN:DAYLIGHT
TZOFFSETFROM:-0600
TZOFFSETTO:-0500
TZNAME:CDT
DTSTART:20270314T080000
END:DAYLIGHT
BEGIN:STANDARD
TZOFFSETFROM:-0500
TZOFFSETTO:-0600
TZNAME:CST
DTSTART:20271107T070000
END:STANDARD
END:VTIMEZONE
BEGIN:VEVENT
DTSTART;TZID=America/Chicago:20260401T080000
DTEND;TZID=America/Chicago:20260401T113000
DTSTAMP:20260425T102436
CREATED:20260323T144212Z
LAST-MODIFIED:20260323T144212Z
UID:10975-1775030400-1775043000@fhsuchristianchallenge.org
SUMMARY:Feeding the 1\,000
DESCRIPTION:Join us on April 1st as we feed our campus\, both physically and spiritually. We will be handing out one thousand breakfast bags with Gospel tracts at several locations on campus with the goal of blessing the students of FHSU this Easter season. We will assemble the bags on Tuesday\, March 31st\, after Challenge\, and would love your help with that! On Wednesday\, April 1st\, we will hand out the bags from 8AM-11:30AM. Please sign up for a time slot at the link below and join us in blessing our campus!
URL:https://fhsuchristianchallenge.org/event/feeding-the-1000-2/
LOCATION:FHSU
END:VEVENT
BEGIN:VEVENT
DTSTART;TZID=America/Chicago:20260403T190000
DTEND;TZID=America/Chicago:20260403T203000
DTSTAMP:20260425T102436
CREATED:20260310T145640Z
LAST-MODIFIED:20260310T145640Z
UID:10948-1775242800-1775248200@fhsuchristianchallenge.org
SUMMARY:Good Friday Service
DESCRIPTION:Friday\, April 3rd\, at 7 PM at North Oak Community Church\, we will be participating in a Community Good Friday Service in partnership with North Oak Community Church\, Cornerstone Southern Baptist Church\, 1st Baptist Church\, and Crosspoint Church. We will be remembering and reflecting on the sufferings of that day\, including songs\, scripture readings\, and times of personal reflection.
URL:https://fhsuchristianchallenge.org/event/good-friday-service-3/
LOCATION:North Oak Community Church\, 3000 Oak Street\, Hays\, KS\, 67601\, United States
END:VEVENT
BEGIN:VEVENT
DTSTART;TZID=America/Chicago:20260417T180000
DTEND;TZID=America/Chicago:20260418T130000
DTSTAMP:20260425T102436
CREATED:20260310T145133Z
LAST-MODIFIED:20260414T193301Z
UID:10942-1776448800-1776517200@fhsuchristianchallenge.org
SUMMARY:Challenge Camping Trip
DESCRIPTION:Join us Friday\, April 17-18\, for a camping trip! PLANS HAVE CHANGED! Originally\, we were going to camp in tents at Glen Elder State Park\, but due to some possible weather conditions (thunderstorms\, wind\, temperature)\, that has changed. We will instead meet at Woodston Family Camp (3095 US-24) on Friday night at 7:00 PM\, with the chance to go hiking\, kayaking\, and canoeing on Saturday morning. We will be staying in cabins\, so please bring twin-sized bedding/sleeping bags!\nThere will be a $20 registration fee to cover food and other expenses for the weekend. For more information and the registration link\, visit the info page\, fhsuchallenge.info
URL:https://fhsuchristianchallenge.org/event/challenge-camping-trip/
LOCATION:Boller Point Campground Glen Elder State Park
END:VEVENT
BEGIN:VEVENT
DTSTART;TZID=America/Chicago:20260424T190000
DTEND;TZID=America/Chicago:20260424T220000
DTSTAMP:20260425T102436
CREATED:20260421T155201Z
LAST-MODIFIED:20260421T155201Z
UID:11038-1777057200-1777068000@fhsuchristianchallenge.org
SUMMARY:Swing Into Spring
DESCRIPTION:Dust off your dancing shoes (or boots!) and Join us on Friday\, April 24th\, from 7PM-10PM at the Municipal Park pavilion (in front of the pickleball courts) for a spring swing dance!
URL:https://fhsuchristianchallenge.org/event/swing-into-spring-2/
LOCATION:Hays Municipal Park\, 1st & Main St.\, Hays\, KS\, 67601\, United States
END:VEVENT
BEGIN:VEVENT
DTSTART;TZID=America/Chicago:20260427T190000
DTEND;TZID=America/Chicago:20260427T210000
DTSTAMP:20260425T102436
CREATED:20260421T155618Z
LAST-MODIFIED:20260421T155618Z
UID:11041-1777316400-1777323600@fhsuchristianchallenge.org
SUMMARY:All Campus Worship Night
DESCRIPTION:Join the Christian groups of Fort Hays State University for a worship night on Campus with the Presence Worship Band. April 27th from 7PM-9PM\, located on the Quad or in Sheridan Hall (weather dependent).
URL:https://fhsuchristianchallenge.org/event/all-campus-worship-night/
LOCATION:The Quad\, 700 College Drive\, Hays\, KS\, 67601\, United States
END:VEVENT
BEGIN:VEVENT
DTSTART;TZID=America/Chicago:20260512T180000
DTEND;TZID=America/Chicago:20260512T210000
DTSTAMP:20260425T102436
CREATED:20260423T182158Z
LAST-MODIFIED:20260423T182158Z
UID:11046-1778608800-1778619600@fhsuchristianchallenge.org
SUMMARY:End of the Year Cookout
DESCRIPTION:Join us for our end of the year cookout and potluck at Kiwanis Park\, next to Crosspoint\, the Tuesday of finals week! Challenge will provide the hotdogs and drinks. Students please bring a side or dessert!
URL:https://fhsuchristianchallenge.org/event/end-of-the-year-cookout/
LOCATION:Kiwanis Park\, 1314 Harvest Rd\, Hays\, KS\, 67601\, United States
END:VEVENT
END:VCALENDAR